
BEGIN:VCALENDAR
VERSION:2.0
PRODID:-//Ballard Nature Center - ECPv6.13.0//NONSGML v1.0//EN
CALSCALE:GREGORIAN
METHOD:PUBLISH
X-ORIGINAL-URL:https://www.ballardnaturecenter.org
X-WR-CALDESC:Events for Ballard Nature Center
REFRESH-INTERVAL;VALUE=DURATION:PT1H
X-Robots-Tag:noindex
X-PUBLISHED-TTL:PT1H
BEGIN:VTIMEZONE
TZID:America/Chicago
BEGIN:DAYLIGHT
TZOFFSETFROM:-0600
TZOFFSETTO:-0500
TZNAME:CDT
DTSTART:20230312T080000
END:DAYLIGHT
BEGIN:STANDARD
TZOFFSETFROM:-0500
TZOFFSETTO:-0600
TZNAME:CST
DTSTART:20231105T070000
END:STANDARD
END:VTIMEZONE
BEGIN:VEVENT
DTSTART;VALUE=DATE:20230406
DTEND;VALUE=DATE:20230407
DTSTAMP:20260420T195518
CREATED:20230405T133602Z
LAST-MODIFIED:20230405T133602Z
UID:3920-1680739200-1680825599@www.ballardnaturecenter.org
SUMMARY:Golden Egg Hunt
DESCRIPTION:For adults and teens.   Come out anytime on April 6\, sunrise to sunset.  Find a golden egg and take a photo of yourselft holding it.  Submit your photo for a chance to win a prize!  There will be two eggs.  Submit and photo for each one and be entered into the drawing twice.  Submit photos via email\, ballardnc@frontiernet.net or text\, 217-536-2170.  Clues to where the eggs are hidden will be posted on the front porch.  Background of photo must show egg’s general location.  Return egg to its location.
URL:https://www.ballardnaturecenter.org/event/golden-egg-hunt/
END:VEVENT
BEGIN:VEVENT
DTSTART;TZID=America/Chicago:20230406T130000
DTEND;TZID=America/Chicago:20230406T150000
DTSTAMP:20260420T195518
CREATED:20230316T165330Z
LAST-MODIFIED:20230316T165330Z
UID:3906-1680786000-1680793200@www.ballardnaturecenter.org
SUMMARY:Egg Fun Family Activity
DESCRIPTION:Come walk a special trail lined with fun activities about eggs & animals that lay eggs.  Self-guided.  Come anytime during 1pm to 3pm.  Cancelled if inclement weather.
URL:https://www.ballardnaturecenter.org/event/egg-fun-family-activity/
END:VEVENT
BEGIN:VEVENT
DTSTART;TZID=America/Chicago:20230412T100000
DTEND;TZID=America/Chicago:20230412T110000
DTSTAMP:20260420T195518
CREATED:20230316T165555Z
LAST-MODIFIED:20230316T165555Z
UID:3908-1681293600-1681297200@www.ballardnaturecenter.org
SUMMARY:Senior Moments
DESCRIPTION:What’s Hatching?  Come learn about the amazing variety of eggs and the animals that lay them.  We’ll have a couple live animal guest to meet.  You can sample a few deviled egg recipes.  For adults of all ages.  Pre-register via email\, phone\, or facebook message.
URL:https://www.ballardnaturecenter.org/event/senior-moments-6/
END:VEVENT
BEGIN:VEVENT
DTSTART;TZID=America/Chicago:20230414T193000
DTEND;TZID=America/Chicago:20230414T210000
DTSTAMP:20260420T195518
CREATED:20230412T140309Z
LAST-MODIFIED:20230412T140309Z
UID:3925-1681500600-1681506000@www.ballardnaturecenter.org
SUMMARY:Luminary Walk
DESCRIPTION:Celebrate spring with a walk on our special luminary-lined woodland trail.  Enjoy beautiful luminaria of different types and other decorations.  You can also roast marshmallows at the firepit and do a fun activity about constellations.   \nCome anytime from 7:30-9:00pm. \nNo registration or fee.  A donation box will be available for free-will donations. \nFor all ages. \n 
URL:https://www.ballardnaturecenter.org/event/luminary-walk-3/
END:VEVENT
BEGIN:VEVENT
DTSTART;TZID=America/Chicago:20230423T120000
DTEND;TZID=America/Chicago:20230423T120000
DTSTAMP:20260420T195518
CREATED:20230315T135352Z
LAST-MODIFIED:20230315T135352Z
UID:3904-1682251200-1682251200@www.ballardnaturecenter.org
SUMMARY:Shed Hunt
DESCRIPTION:Whitetails Unlimited Central IL chapter is hosting its annual shed hunt at Ballard Nature Center.  Antler sheds will be hidden Easter egg style.  Open to children 0-18 in high school.  Children will learn to score an antler.  They can keep 1 deer antler.  If anyone has antler sheds to donate for the event or needs more information\, please contact Janice Monroe (217)821-8801 or Steve Niemerg (217)690-5621.
URL:https://www.ballardnaturecenter.org/event/shed-hunt/
END:VEVENT
END:VCALENDAR