
BEGIN:VCALENDAR
VERSION:2.0
PRODID:-//Ballard Nature Center - ECPv6.13.0//NONSGML v1.0//EN
CALSCALE:GREGORIAN
METHOD:PUBLISH
X-WR-CALNAME:Ballard Nature Center
X-ORIGINAL-URL:https://www.ballardnaturecenter.org
X-WR-CALDESC:Events for Ballard Nature Center
REFRESH-INTERVAL;VALUE=DURATION:PT1H
X-Robots-Tag:noindex
X-PUBLISHED-TTL:PT1H
BEGIN:VTIMEZONE
TZID:America/Chicago
BEGIN:DAYLIGHT
TZOFFSETFROM:-0600
TZOFFSETTO:-0500
TZNAME:CDT
DTSTART:20220313T080000
END:DAYLIGHT
BEGIN:STANDARD
TZOFFSETFROM:-0500
TZOFFSETTO:-0600
TZNAME:CST
DTSTART:20221106T070000
END:STANDARD
END:VTIMEZONE
BEGIN:VEVENT
DTSTART;TZID=America/Chicago:20221209T170000
DTEND;TZID=America/Chicago:20221209T200000
DTSTAMP:20260422T052815
CREATED:20221028T171414Z
LAST-MODIFIED:20221207T161202Z
UID:3845-1670605200-1670616000@www.ballardnaturecenter.org
SUMMARY:Luminary Walk
DESCRIPTION:Come walk a trail lit by many beautiful luminaria of varying types & other decorations.  Enjoy a fire and cookies.  Free will donation.
URL:https://www.ballardnaturecenter.org/event/luminary-walk-2/
END:VEVENT
BEGIN:VEVENT
DTSTART;TZID=America/Chicago:20221214T170000
DTEND;TZID=America/Chicago:20221214T210000
DTSTAMP:20260422T052815
CREATED:20221117T154356Z
LAST-MODIFIED:20221207T161335Z
UID:3852-1671037200-1671051600@www.ballardnaturecenter.org
SUMMARY:Sky Orienteering
DESCRIPTION:Join Randy Harrison\, of Looking Up Optics\, at around 5pm and enjoy a night under the stars.  Bring a chair and a pair of binoculars\, if you have some.  We will tour the visible constellations at this time of year\, learn their locations\, and how to identify them.  We’ll also learn about the bright stars and the constellations that they are in.  No registration required.  Come take a tour star hopping around the sky. \n 
URL:https://www.ballardnaturecenter.org/event/sky-orienteering-2/
END:VEVENT
BEGIN:VEVENT
DTSTART;TZID=America/Chicago:20221228T100000
DTEND;TZID=America/Chicago:20221228T130000
DTSTAMP:20260422T052815
CREATED:20221202T145644Z
LAST-MODIFIED:20221202T145644Z
UID:3857-1672221600-1672232400@www.ballardnaturecenter.org
SUMMARY:Winter Break Fun
DESCRIPTION:For kids in grades 1st-3rd.  10am-1pm.  We’ll have all kinds of winter-themed fun as we craft\, play games\, hike\, and more.  Bring a lunch.  Registration required.  $5 fee per child.                                         ballardnc@frontiernet.net\, 618-483-6856 \n 
URL:https://www.ballardnaturecenter.org/event/winter-break-fun/
END:VEVENT
END:VCALENDAR