
BEGIN:VCALENDAR
VERSION:2.0
PRODID:-//Ballard Nature Center - ECPv6.13.0//NONSGML v1.0//EN
CALSCALE:GREGORIAN
METHOD:PUBLISH
X-WR-CALNAME:Ballard Nature Center
X-ORIGINAL-URL:https://www.ballardnaturecenter.org
X-WR-CALDESC:Events for Ballard Nature Center
REFRESH-INTERVAL;VALUE=DURATION:PT1H
X-Robots-Tag:noindex
X-PUBLISHED-TTL:PT1H
BEGIN:VTIMEZONE
TZID:America/Chicago
BEGIN:DAYLIGHT
TZOFFSETFROM:-0600
TZOFFSETTO:-0500
TZNAME:CDT
DTSTART:20220313T080000
END:DAYLIGHT
BEGIN:STANDARD
TZOFFSETFROM:-0500
TZOFFSETTO:-0600
TZNAME:CST
DTSTART:20221106T070000
END:STANDARD
END:VTIMEZONE
BEGIN:VEVENT
DTSTART;TZID=America/Chicago:20220908T100000
DTEND;TZID=America/Chicago:20220908T100000
DTSTAMP:20260421T045154
CREATED:20220829T142645Z
LAST-MODIFIED:20220829T142645Z
UID:3803-1662631200-1662631200@www.ballardnaturecenter.org
SUMMARY:Nature Tales
DESCRIPTION:Amazing Animal Eyes: come learn about the amazing variety of eyes and go on a fun “I spy” hike.  For kids ages 3-5 with adult. Pre-register by Sept 7\, by email\, phone\, or Facebook message.
URL:https://www.ballardnaturecenter.org/event/nature-tales-11/
END:VEVENT
BEGIN:VEVENT
DTSTART;VALUE=DATE:20220910
DTEND;VALUE=DATE:20220912
DTSTAMP:20260421T045154
CREATED:20220623T180745Z
LAST-MODIFIED:20220802T180548Z
UID:3776-1662768000-1662940799@www.ballardnaturecenter.org
SUMMARY:3D Bow Shoot Fundraiser
DESCRIPTION:During this fundraising event\, participants shoot at 3D targets set up along the trails.  Some trails are closed to the public.
URL:https://www.ballardnaturecenter.org/event/3d-bow-shoot-fundraiser/
END:VEVENT
BEGIN:VEVENT
DTSTART;TZID=America/Chicago:20220916T190000
DTEND;TZID=America/Chicago:20220916T213000
DTSTAMP:20260421T045154
CREATED:20220829T142845Z
LAST-MODIFIED:20220914T171035Z
UID:3805-1663354800-1663363800@www.ballardnaturecenter.org
SUMMARY:Sky Orienteering
DESCRIPTION:Join Randy Harrison\, of Looking Up Optics\, at around 7:15pm and enjoy a night under the stars.  Bring a chair and a pair of binoculars\, if you have some.  We will tour the visible constellations at this time of year\, learn their locations\, and how to identify them.  We’ll also learn about the bright stars and the constellations that they are in.  We’ll see if we can id the bright Messier Objects in certain constellations.  No registration required.  Backup date is Sept 21 in case it is cloudy or rainy.  Come take a tour star hopping around the sky. \n 
URL:https://www.ballardnaturecenter.org/event/sky-orienteering/
END:VEVENT
BEGIN:VEVENT
DTSTART;VALUE=DATE:20220917
DTEND;VALUE=DATE:20220918
DTSTAMP:20260421T045154
CREATED:20220829T152600Z
LAST-MODIFIED:20220829T152600Z
UID:3811-1663372800-1663459199@www.ballardnaturecenter.org
SUMMARY:Jack-o-lantern Trail
DESCRIPTION:Self-guided trail that will be available until the end of October.  Along the woodland trail (follow the signs) there will be pictures of jack-o’-lanterns attached to trees.  At each picture\, you will punch your card that you pick up at the trailhead.  Turn your card in for a chance to win a prize. \n 
URL:https://www.ballardnaturecenter.org/event/jack-o-lantern-trail/
END:VEVENT
BEGIN:VEVENT
DTSTART;TZID=America/Chicago:20220921T100000
DTEND;TZID=America/Chicago:20220921T100000
DTSTAMP:20260421T045154
CREATED:20220829T145055Z
LAST-MODIFIED:20220829T145055Z
UID:3807-1663754400-1663754400@www.ballardnaturecenter.org
SUMMARY:Senior Moments
DESCRIPTION:Come learn about woodpeckers\, play bird bingo\, and talk a short hike.  We’ll learn and laugh and have a memorable senior moment.  Adult program.  Pre-register by the 20th by email\, phone or facebook message. \n 
URL:https://www.ballardnaturecenter.org/event/senior-moments/
END:VEVENT
BEGIN:VEVENT
DTSTART;TZID=America/Chicago:20220924T090000
DTEND;TZID=America/Chicago:20220924T120000
DTSTAMP:20260421T045154
CREATED:20220708T190253Z
LAST-MODIFIED:20220816T160842Z
UID:3783-1664010000-1664020800@www.ballardnaturecenter.org
SUMMARY:Family Fun Day
DESCRIPTION:Enjoy yard games\, craft\, nature train rides\, & more.   Bring a picnic lunch and stay awhile.  No registration required.
URL:https://www.ballardnaturecenter.org/event/family-fun-day-2/
END:VEVENT
BEGIN:VEVENT
DTSTART;TZID=America/Chicago:20220930T183000
DTEND;TZID=America/Chicago:20220930T183000
DTSTAMP:20260421T045154
CREATED:20220829T145154Z
LAST-MODIFIED:20220924T150414Z
UID:3809-1664562600-1664562600@www.ballardnaturecenter.org
SUMMARY:Campfire Night
DESCRIPTION:Gather ‘round a fire for stories & songs.  There will also be activities centered around coyotes and a fun interactive hike.  Pre-register by Sept 28 by phone\, email or facebooks message.  Family program. \n  \n 
URL:https://www.ballardnaturecenter.org/event/campfire-night/
END:VEVENT
END:VCALENDAR