
BEGIN:VCALENDAR
VERSION:2.0
PRODID:-//Ballard Nature Center - ECPv6.13.0//NONSGML v1.0//EN
CALSCALE:GREGORIAN
METHOD:PUBLISH
X-WR-CALNAME:Ballard Nature Center
X-ORIGINAL-URL:https://www.ballardnaturecenter.org
X-WR-CALDESC:Events for Ballard Nature Center
REFRESH-INTERVAL;VALUE=DURATION:PT1H
X-Robots-Tag:noindex
X-PUBLISHED-TTL:PT1H
BEGIN:VTIMEZONE
TZID:America/Chicago
BEGIN:DAYLIGHT
TZOFFSETFROM:-0600
TZOFFSETTO:-0500
TZNAME:CDT
DTSTART:20260308T080000
END:DAYLIGHT
BEGIN:STANDARD
TZOFFSETFROM:-0500
TZOFFSETTO:-0600
TZNAME:CST
DTSTART:20261101T070000
END:STANDARD
END:VTIMEZONE
BEGIN:VEVENT
DTSTART;TZID=America/Chicago:20260616T130000
DTEND;TZID=America/Chicago:20260616T143000
DTSTAMP:20260421T145127
CREATED:20260410T160815Z
LAST-MODIFIED:20260410T161400Z
UID:5244-1781614800-1781620200@www.ballardnaturecenter.org
SUMMARY:Colorful Chameleons
DESCRIPTION:For kids ages 5-6 years old.  Learn about these fascinating reptiles and what colors they can turn and why.
URL:https://www.ballardnaturecenter.org/event/colorful-chameleons-2/
CATEGORIES:Summer Camp
END:VEVENT
BEGIN:VEVENT
DTSTART;TZID=America/Chicago:20260617T090000
DTEND;TZID=America/Chicago:20260617T110000
DTSTAMP:20260421T145127
CREATED:20260410T161901Z
LAST-MODIFIED:20260410T161901Z
UID:5248-1781686800-1781694000@www.ballardnaturecenter.org
SUMMARY:Animal Engineers
DESCRIPTION:For kids ages 9-12 years old.  Which animals are the best architects?  We’ll have our own building challenge!
URL:https://www.ballardnaturecenter.org/event/animal-engineers/
CATEGORIES:Summer Camp
END:VEVENT
BEGIN:VEVENT
DTSTART;TZID=America/Chicago:20260618T090000
DTEND;TZID=America/Chicago:20260618T110000
DTSTAMP:20260421T145127
CREATED:20260410T162118Z
LAST-MODIFIED:20260410T162118Z
UID:5251-1781773200-1781780400@www.ballardnaturecenter.org
SUMMARY:Animal Engineers
DESCRIPTION:For kids ages 9-12 years old.  Which animals are the best architects?  We’ll have our own building challenge!
URL:https://www.ballardnaturecenter.org/event/animal-engineers-2/
CATEGORIES:Summer Camp
END:VEVENT
BEGIN:VEVENT
DTSTART;TZID=America/Chicago:20260619T100000
DTEND;TZID=America/Chicago:20260619T110000
DTSTAMP:20260421T145127
CREATED:20260421T171008Z
LAST-MODIFIED:20260421T171008Z
UID:5329-1781863200-1781866800@www.ballardnaturecenter.org
SUMMARY:Hoppy Frogs
DESCRIPTION:A puppet show with related activities and a trail walk.  Family program.  Registration begins June 5.  Call or email us to register.
URL:https://www.ballardnaturecenter.org/event/hoppy-frogs/
END:VEVENT
BEGIN:VEVENT
DTSTART;TZID=America/Chicago:20260623T090000
DTEND;TZID=America/Chicago:20260623T110000
DTSTAMP:20260421T145127
CREATED:20260410T162336Z
LAST-MODIFIED:20260410T162336Z
UID:5254-1782205200-1782212400@www.ballardnaturecenter.org
SUMMARY:Secret Life of Bobcats
DESCRIPTION:For kids ages 6-8 years old.  Learn about the elusive bobcat and its relatives.
URL:https://www.ballardnaturecenter.org/event/secret-life-of-bobcats/
CATEGORIES:Summer Camp
END:VEVENT
BEGIN:VEVENT
DTSTART;TZID=America/Chicago:20260623T130000
DTEND;TZID=America/Chicago:20260623T150000
DTSTAMP:20260421T145127
CREATED:20260410T162541Z
LAST-MODIFIED:20260410T162541Z
UID:5257-1782219600-1782226800@www.ballardnaturecenter.org
SUMMARY:Secret Life of Bobcats
DESCRIPTION:For kids ages 6-8 years old.  Learn about the elusive bobcat and its relatives.
URL:https://www.ballardnaturecenter.org/event/secret-life-of-bobcats-2/
CATEGORIES:Summer Camp
END:VEVENT
BEGIN:VEVENT
DTSTART;TZID=America/Chicago:20260624T090000
DTEND;TZID=America/Chicago:20260624T110000
DTSTAMP:20260421T145127
CREATED:20260410T162808Z
LAST-MODIFIED:20260410T162808Z
UID:5260-1782291600-1782298800@www.ballardnaturecenter.org
SUMMARY:Nature Powers
DESCRIPTION:For kids ages 7-9 years old.  Learn about some of the most incredible animal adaptations\, AKA superpowers.
URL:https://www.ballardnaturecenter.org/event/nature-powers/
CATEGORIES:Summer Camp
END:VEVENT
BEGIN:VEVENT
DTSTART;TZID=America/Chicago:20260625T090000
DTEND;TZID=America/Chicago:20260625T110000
DTSTAMP:20260421T145127
CREATED:20260410T162914Z
LAST-MODIFIED:20260410T162914Z
UID:5263-1782378000-1782385200@www.ballardnaturecenter.org
SUMMARY:Nature Powers
DESCRIPTION:For kids ages 7-9 years old.  Learn about some of the most incredible animal adaptations\, AKA superpowers.
URL:https://www.ballardnaturecenter.org/event/nature-powers-2/
CATEGORIES:Summer Camp
END:VEVENT
BEGIN:VEVENT
DTSTART;TZID=America/Chicago:20260629T100000
DTEND;TZID=America/Chicago:20260629T110000
DTSTAMP:20260421T145127
CREATED:20260421T171219Z
LAST-MODIFIED:20260421T171219Z
UID:5331-1782727200-1782730800@www.ballardnaturecenter.org
SUMMARY:Animal Athletes
DESCRIPTION:Run\, jump\, climb\, and fly!  We’ll see how different animals move and learn who would win the gold medal in animal Olympics.  Family program.  Registration begins on June 15.  Call or email us to register.
URL:https://www.ballardnaturecenter.org/event/animal-athletes/
END:VEVENT
BEGIN:VEVENT
DTSTART;TZID=America/Chicago:20260701T090000
DTEND;TZID=America/Chicago:20260701T110000
DTSTAMP:20260421T145127
CREATED:20260410T174357Z
LAST-MODIFIED:20260410T174357Z
UID:5270-1782896400-1782903600@www.ballardnaturecenter.org
SUMMARY:Signs Left Behind
DESCRIPTION:For kids ages 8-11. Become nature detectives and learn how to read signs that animals leave behind\, like tracks.
URL:https://www.ballardnaturecenter.org/event/signs-left-behind/
CATEGORIES:Summer Camp
END:VEVENT
BEGIN:VEVENT
DTSTART;TZID=America/Chicago:20260702T090000
DTEND;TZID=America/Chicago:20260702T110000
DTSTAMP:20260421T145127
CREATED:20260410T174527Z
LAST-MODIFIED:20260410T174527Z
UID:5273-1782982800-1782990000@www.ballardnaturecenter.org
SUMMARY:Signs Left Behind
DESCRIPTION:For kids ages 8-11. Become nature detectives and learn how to read signs that animals leave behind\, like tracks.
URL:https://www.ballardnaturecenter.org/event/signs-left-behind-2/
CATEGORIES:Summer Camp
END:VEVENT
BEGIN:VEVENT
DTSTART;VALUE=DATE:20260706
DTEND;VALUE=DATE:20260707
DTSTAMP:20260421T145127
CREATED:20260421T171306Z
LAST-MODIFIED:20260421T171306Z
UID:5333-1783296000-1783382399@www.ballardnaturecenter.org
SUMMARY:Trail Activity
DESCRIPTION:Details to come.
URL:https://www.ballardnaturecenter.org/event/trail-activity/
END:VEVENT
BEGIN:VEVENT
DTSTART;TZID=America/Chicago:20260708T090000
DTEND;TZID=America/Chicago:20260708T103000
DTSTAMP:20260421T145127
CREATED:20260410T174720Z
LAST-MODIFIED:20260410T175016Z
UID:5276-1783501200-1783506600@www.ballardnaturecenter.org
SUMMARY:Scurrying Squirrels
DESCRIPTION:For kids ages 5-6.  Learn all about these quick little creatures and their relatives.
URL:https://www.ballardnaturecenter.org/event/scurrying-squirrels/
CATEGORIES:Summer Camp
END:VEVENT
BEGIN:VEVENT
DTSTART;TZID=America/Chicago:20260708T130000
DTEND;TZID=America/Chicago:20260708T143000
DTSTAMP:20260421T145127
CREATED:20260410T174844Z
LAST-MODIFIED:20260410T174844Z
UID:5279-1783515600-1783521000@www.ballardnaturecenter.org
SUMMARY:Scurrying Squirrels
DESCRIPTION:For kids ages 5-6.  Learn all about these quick little creatures and their relatives.
URL:https://www.ballardnaturecenter.org/event/scurrying-squirrels-2/
CATEGORIES:Summer Camp
END:VEVENT
BEGIN:VEVENT
DTSTART;TZID=America/Chicago:20260710T100000
DTEND;TZID=America/Chicago:20260710T110000
DTSTAMP:20260421T145127
CREATED:20260421T171505Z
LAST-MODIFIED:20260421T171505Z
UID:5335-1783677600-1783681200@www.ballardnaturecenter.org
SUMMARY:Slithering Snakes
DESCRIPTION:We will have ssso much fun learning about the snakes of BNC.  A meet and greet with our wildlife ambassador\, Cora\, is included.  Family program.  Registration begins June 26.  Call or email us to register.
URL:https://www.ballardnaturecenter.org/event/slithering-snakes-2/
END:VEVENT
BEGIN:VEVENT
DTSTART;TZID=America/Chicago:20260715T090000
DTEND;TZID=America/Chicago:20260715T113000
DTSTAMP:20260421T145127
CREATED:20260410T175317Z
LAST-MODIFIED:20260410T175317Z
UID:5282-1784106000-1784115000@www.ballardnaturecenter.org
SUMMARY:Birds of Prey
DESCRIPTION:For kids ages 7-10.  Whooo belongs in this group of special birds?  We’ll find this out and much more.
URL:https://www.ballardnaturecenter.org/event/birds-of-prey/
CATEGORIES:Summer Camp
END:VEVENT
BEGIN:VEVENT
DTSTART;TZID=America/Chicago:20260716T090000
DTEND;TZID=America/Chicago:20260716T113000
DTSTAMP:20260421T145127
CREATED:20260410T175656Z
LAST-MODIFIED:20260410T175656Z
UID:5285-1784192400-1784201400@www.ballardnaturecenter.org
SUMMARY:Birds of Prey
DESCRIPTION:For kids ages 7-10.  Whooo belongs in this group of special birds?  We’ll find this out and much more.
URL:https://www.ballardnaturecenter.org/event/birds-of-prey-2/
CATEGORIES:Summer Camp
END:VEVENT
BEGIN:VEVENT
DTSTART;TZID=America/Chicago:20260717T180000
DTEND;TZID=America/Chicago:20260717T203000
DTSTAMP:20260421T145127
CREATED:20260410T175915Z
LAST-MODIFIED:20260410T175915Z
UID:5289-1784311200-1784320200@www.ballardnaturecenter.org
SUMMARY:Almost Campout
DESCRIPTION:For kids ages 8-11.  Join us for yard games\, a scavenger hunt\, and a campfire meal of hot dogs & s’mores.
URL:https://www.ballardnaturecenter.org/event/almost-campout/
CATEGORIES:Summer Camp
END:VEVENT
BEGIN:VEVENT
DTSTART;TZID=America/Chicago:20260721T100000
DTEND;TZID=America/Chicago:20260721T130000
DTSTAMP:20260421T145127
CREATED:20260410T180133Z
LAST-MODIFIED:20260410T180133Z
UID:5292-1784628000-1784638800@www.ballardnaturecenter.org
SUMMARY:Kitchen Chemistry
DESCRIPTION:For kids ages 7-10.  Explore science through fun\, hands-on experiments!  Bring a picnic lunch.
URL:https://www.ballardnaturecenter.org/event/kitchen-chemistry/
CATEGORIES:Summer Camp
END:VEVENT
BEGIN:VEVENT
DTSTART;TZID=America/Chicago:20260722T100000
DTEND;TZID=America/Chicago:20260722T130000
DTSTAMP:20260421T145127
CREATED:20260410T180333Z
LAST-MODIFIED:20260410T180333Z
UID:5295-1784714400-1784725200@www.ballardnaturecenter.org
SUMMARY:Kitchen Chemistry
DESCRIPTION:For kids ages 7-10.  Explore science through fun\, hands-on experiments!  Bring a picnic lunch.
URL:https://www.ballardnaturecenter.org/event/kitchen-chemistry-2/
CATEGORIES:Summer Camp
END:VEVENT
BEGIN:VEVENT
DTSTART;TZID=America/Chicago:20260723T100000
DTEND;TZID=America/Chicago:20260723T130000
DTSTAMP:20260421T145127
CREATED:20260410T180502Z
LAST-MODIFIED:20260410T180502Z
UID:5298-1784800800-1784811600@www.ballardnaturecenter.org
SUMMARY:Kitchen Chemistry
DESCRIPTION:For kids ages 7-10.  Explore science through fun\, hands-on experiments!  Bring a picnic lunch.
URL:https://www.ballardnaturecenter.org/event/kitchen-chemistry-3/
CATEGORIES:Summer Camp
END:VEVENT
BEGIN:VEVENT
DTSTART;TZID=America/Chicago:20260728T100000
DTEND;TZID=America/Chicago:20260728T110000
DTSTAMP:20260421T145127
CREATED:20260421T171637Z
LAST-MODIFIED:20260421T171637Z
UID:5337-1785232800-1785236400@www.ballardnaturecenter.org
SUMMARY:Bushy-tailed Bandits
DESCRIPTION:Join us as we learn all about raccoons.  A craft\, games\, and trail walk are all part of the fun.  Family program.  Registration begins July 14.  Call or email us to regiser.
URL:https://www.ballardnaturecenter.org/event/bushy-tailed-bandits/
END:VEVENT
BEGIN:VEVENT
DTSTART;TZID=America/Chicago:20260729T090000
DTEND;TZID=America/Chicago:20260729T110000
DTSTAMP:20260421T145127
CREATED:20260410T180811Z
LAST-MODIFIED:20260410T180811Z
UID:5301-1785315600-1785322800@www.ballardnaturecenter.org
SUMMARY:Pond Birds
DESCRIPTION:For kids ages 6-8.  Duck are not the only birds that live and hunt at our ponds.  We’ll learn about ducks and their feathered neighbors.
URL:https://www.ballardnaturecenter.org/event/pond-birds/
CATEGORIES:Summer Camp
END:VEVENT
BEGIN:VEVENT
DTSTART;TZID=America/Chicago:20260730T090000
DTEND;TZID=America/Chicago:20260730T110000
DTSTAMP:20260421T145127
CREATED:20260410T180921Z
LAST-MODIFIED:20260410T180921Z
UID:5304-1785402000-1785409200@www.ballardnaturecenter.org
SUMMARY:Pond Birds
DESCRIPTION:For kids ages 6-8.  Duck are not the only birds that live and hunt at our ponds.  We’ll learn about ducks and their feathered neighbors.
URL:https://www.ballardnaturecenter.org/event/pond-birds-2/
CATEGORIES:Summer Camp
END:VEVENT
BEGIN:VEVENT
DTSTART;TZID=America/Chicago:20260731T090000
DTEND;TZID=America/Chicago:20260731T110000
DTSTAMP:20260421T145127
CREATED:20260410T181136Z
LAST-MODIFIED:20260410T181136Z
UID:5307-1785488400-1785495600@www.ballardnaturecenter.org
SUMMARY:Loveable Otters
DESCRIPTION:For kids ages 8-11.   Learn about these fun animals and paint an adorable otter picture.
URL:https://www.ballardnaturecenter.org/event/loveable-otters/
CATEGORIES:Summer Camp
END:VEVENT
BEGIN:VEVENT
DTSTART;TZID=America/Chicago:20260731T130000
DTEND;TZID=America/Chicago:20260731T150000
DTSTAMP:20260421T145127
CREATED:20260410T181315Z
LAST-MODIFIED:20260410T181315Z
UID:5310-1785502800-1785510000@www.ballardnaturecenter.org
SUMMARY:Loveable Otters
DESCRIPTION:For kids ages 8-11.  Learn about these fun animals and paint an adorable otter picture.
URL:https://www.ballardnaturecenter.org/event/loveable-otters-2/
CATEGORIES:Summer Camp
END:VEVENT
BEGIN:VEVENT
DTSTART;TZID=America/Chicago:20260804T090000
DTEND;TZID=America/Chicago:20260804T103000
DTSTAMP:20260421T145127
CREATED:20260410T181612Z
LAST-MODIFIED:20260410T181612Z
UID:5313-1785834000-1785839400@www.ballardnaturecenter.org
SUMMARY:Chomp\, Chase & Survive
DESCRIPTION:For kids ages 7-9.  In nature it’s eat or be eaten! Learn all about predators\, prey\, and food webs.
URL:https://www.ballardnaturecenter.org/event/chomp-chase-survive/
CATEGORIES:Summer Camp
END:VEVENT
BEGIN:VEVENT
DTSTART;TZID=America/Chicago:20260804T130000
DTEND;TZID=America/Chicago:20260804T143000
DTSTAMP:20260421T145127
CREATED:20260410T181757Z
LAST-MODIFIED:20260410T181757Z
UID:5316-1785848400-1785853800@www.ballardnaturecenter.org
SUMMARY:Chomp\, Chase & Survive
DESCRIPTION:For kids ages 7-9.  In nature it’s eat or be eaten.  Learn all about predators\, prey\, and food webs.
URL:https://www.ballardnaturecenter.org/event/chomp-chase-survive-2/
CATEGORIES:Summer Camp
END:VEVENT
BEGIN:VEVENT
DTSTART;TZID=America/Chicago:20260806T090000
DTEND;TZID=America/Chicago:20260806T103000
DTSTAMP:20260421T145127
CREATED:20260410T181929Z
LAST-MODIFIED:20260410T181929Z
UID:5319-1786006800-1786012200@www.ballardnaturecenter.org
SUMMARY:Slow Going
DESCRIPTION:For kids ages 5-6.  All about snails\, turtles\, and other slow movers.
URL:https://www.ballardnaturecenter.org/event/slow-going/
CATEGORIES:Summer Camp
END:VEVENT
BEGIN:VEVENT
DTSTART;TZID=America/Chicago:20260806T130000
DTEND;TZID=America/Chicago:20260806T143000
DTSTAMP:20260421T145127
CREATED:20260410T182043Z
LAST-MODIFIED:20260410T182043Z
UID:5322-1786021200-1786026600@www.ballardnaturecenter.org
SUMMARY:Slow Going
DESCRIPTION:For kids ages 5-6.  All about snails\, turtles\, and other slow movers.
URL:https://www.ballardnaturecenter.org/event/slow-going-2/
CATEGORIES:Summer Camp
END:VEVENT
END:VCALENDAR