
BEGIN:VCALENDAR
VERSION:2.0
PRODID:-//Ballard Nature Center - ECPv6.13.0//NONSGML v1.0//EN
CALSCALE:GREGORIAN
METHOD:PUBLISH
X-ORIGINAL-URL:https://www.ballardnaturecenter.org
X-WR-CALDESC:Events for Ballard Nature Center
REFRESH-INTERVAL;VALUE=DURATION:PT1H
X-Robots-Tag:noindex
X-PUBLISHED-TTL:PT1H
BEGIN:VTIMEZONE
TZID:America/Chicago
BEGIN:DAYLIGHT
TZOFFSETFROM:-0600
TZOFFSETTO:-0500
TZNAME:CDT
DTSTART:20230312T080000
END:DAYLIGHT
BEGIN:STANDARD
TZOFFSETFROM:-0500
TZOFFSETTO:-0600
TZNAME:CST
DTSTART:20231105T070000
END:STANDARD
END:VTIMEZONE
BEGIN:VEVENT
DTSTART;TZID=America/Chicago:20230315T100000
DTEND;TZID=America/Chicago:20230315T100000
DTSTAMP:20260420T195518
CREATED:20230221T152022Z
LAST-MODIFIED:20230221T152022Z
UID:3897-1678874400-1678874400@www.ballardnaturecenter.org
SUMMARY:Senior Moments
DESCRIPTION:Come learn about the frogs that live at Ballard.  We’ll listen to their calls and we’ll even have some live specimens to see.  A little craft project is included.  For adults of all ages.  Registration required by facebook message\, email\, or phone.
URL:https://www.ballardnaturecenter.org/event/senior-moments-5/
END:VEVENT
END:VCALENDAR