
BEGIN:VCALENDAR
VERSION:2.0
PRODID:-//Ballard Nature Center - ECPv6.13.0//NONSGML v1.0//EN
CALSCALE:GREGORIAN
METHOD:PUBLISH
X-WR-CALNAME:Ballard Nature Center
X-ORIGINAL-URL:https://www.ballardnaturecenter.org
X-WR-CALDESC:Events for Ballard Nature Center
REFRESH-INTERVAL;VALUE=DURATION:PT1H
X-Robots-Tag:noindex
X-PUBLISHED-TTL:PT1H
BEGIN:VTIMEZONE
TZID:America/Chicago
BEGIN:DAYLIGHT
TZOFFSETFROM:-0600
TZOFFSETTO:-0500
TZNAME:CDT
DTSTART:20230312T080000
END:DAYLIGHT
BEGIN:STANDARD
TZOFFSETFROM:-0500
TZOFFSETTO:-0600
TZNAME:CST
DTSTART:20231105T070000
END:STANDARD
END:VTIMEZONE
BEGIN:VEVENT
DTSTART;TZID=America/Chicago:20230311T153000
DTEND;TZID=America/Chicago:20230311T163000
DTSTAMP:20260420T195511
CREATED:20230221T151743Z
LAST-MODIFIED:20230309T163857Z
UID:3895-1678548600-1678552200@www.ballardnaturecenter.org
SUMMARY:Wild Times
DESCRIPTION:Wild Times Exotics\, from Springfield\, will be here for an awesome presentation with live animals.  The program will last one hour.  Registration is required by facebook message\, email\, or phone.  For all.
URL:https://www.ballardnaturecenter.org/event/wild-times/
END:VEVENT
END:VCALENDAR