
BEGIN:VCALENDAR
VERSION:2.0
PRODID:-//Ballard Nature Center - ECPv6.13.0//NONSGML v1.0//EN
CALSCALE:GREGORIAN
METHOD:PUBLISH
X-WR-CALNAME:Ballard Nature Center
X-ORIGINAL-URL:https://www.ballardnaturecenter.org
X-WR-CALDESC:Events for Ballard Nature Center
REFRESH-INTERVAL;VALUE=DURATION:PT1H
X-Robots-Tag:noindex
X-PUBLISHED-TTL:PT1H
BEGIN:VTIMEZONE
TZID:America/Chicago
BEGIN:DAYLIGHT
TZOFFSETFROM:-0600
TZOFFSETTO:-0500
TZNAME:CDT
DTSTART:20230312T080000
END:DAYLIGHT
BEGIN:STANDARD
TZOFFSETFROM:-0500
TZOFFSETTO:-0600
TZNAME:CST
DTSTART:20231105T070000
END:STANDARD
END:VTIMEZONE
BEGIN:VEVENT
DTSTART;TZID=America/Chicago:20230303T180000
DTEND;TZID=America/Chicago:20230303T180000
DTSTAMP:20260420T180707
CREATED:20230106T174137Z
LAST-MODIFIED:20230203T171408Z
UID:3869-1677866400-1677866400@www.ballardnaturecenter.org
SUMMARY:Horse Race Fundraiser
DESCRIPTION:A fun and interactive fundraising event at the Effingham Performance Center to benefit the Ballard Nature Center.\nDoors open at 6:00pm\nRaces start at 7:00pm\nA night that re-creates being at a true horserace.\nAttendees will place bets in increments of $5.00 prior to each race.\nDaily Double and 50/50 will able be available for your chance to win.\nDress in your “derby” attire for your chance to win a door prize.\nSimple Appetizers will be provided\nDrinks available for purchase.\nTicket prices: $25.00/person\nPlease contact Ballard Nature Center via email\, Facebook\, or phone (618-483-6856) to purchase tickets or sponsorships.\nYou can also purchase tickets online using the link provided:\n\nhttps://www.eventbrite.com/e/511227734917
URL:https://www.ballardnaturecenter.org/event/horse-race-fundraiser-3/
END:VEVENT
END:VCALENDAR