
BEGIN:VCALENDAR
VERSION:2.0
PRODID:-//Ballard Nature Center - ECPv6.13.0//NONSGML v1.0//EN
CALSCALE:GREGORIAN
METHOD:PUBLISH
X-ORIGINAL-URL:https://www.ballardnaturecenter.org
X-WR-CALDESC:Events for Ballard Nature Center
REFRESH-INTERVAL;VALUE=DURATION:PT1H
X-Robots-Tag:noindex
X-PUBLISHED-TTL:PT1H
BEGIN:VTIMEZONE
TZID:America/Chicago
BEGIN:DAYLIGHT
TZOFFSETFROM:-0600
TZOFFSETTO:-0500
TZNAME:CDT
DTSTART:20230312T080000
END:DAYLIGHT
BEGIN:STANDARD
TZOFFSETFROM:-0500
TZOFFSETTO:-0600
TZNAME:CST
DTSTART:20231105T070000
END:STANDARD
END:VTIMEZONE
BEGIN:VEVENT
DTSTART;TZID=America/Chicago:20230215T090000
DTEND;TZID=America/Chicago:20230215T090000
DTSTAMP:20260420T180828
CREATED:20230203T170716Z
LAST-MODIFIED:20230203T170716Z
UID:3886-1676451600-1676451600@www.ballardnaturecenter.org
SUMMARY:Senior Moments
DESCRIPTION:Breakfast with the Birds – enjoy a light breakfast as you learn about our winter birds.  We’ll also watch them at the feeders.  For adults of all ages.  Pre-registration required.
URL:https://www.ballardnaturecenter.org/event/senior-moments-4/
END:VEVENT
END:VCALENDAR