
BEGIN:VCALENDAR
VERSION:2.0
PRODID:-//Ballard Nature Center - ECPv6.13.0//NONSGML v1.0//EN
CALSCALE:GREGORIAN
METHOD:PUBLISH
X-WR-CALNAME:Ballard Nature Center
X-ORIGINAL-URL:https://www.ballardnaturecenter.org
X-WR-CALDESC:Events for Ballard Nature Center
REFRESH-INTERVAL;VALUE=DURATION:PT1H
X-Robots-Tag:noindex
X-PUBLISHED-TTL:PT1H
BEGIN:VTIMEZONE
TZID:America/Chicago
BEGIN:DAYLIGHT
TZOFFSETFROM:-0600
TZOFFSETTO:-0500
TZNAME:CDT
DTSTART:20230312T080000
END:DAYLIGHT
BEGIN:STANDARD
TZOFFSETFROM:-0500
TZOFFSETTO:-0600
TZNAME:CST
DTSTART:20231105T070000
END:STANDARD
END:VTIMEZONE
BEGIN:VEVENT
DTSTART;TZID=America/Chicago:20230210T180000
DTEND;TZID=America/Chicago:20230210T180000
DTSTAMP:20260420T180715
CREATED:20230131T212611Z
LAST-MODIFIED:20230131T212611Z
UID:3877-1676052000-1676052000@www.ballardnaturecenter.org
SUMMARY:Sky Orienteering
DESCRIPTION:Join Randy Harrison as he helps you view constellations\, Mars\, & the great Orion Nebula.  We’ll also see if we can identify the bright Messier Objects in certain constellations.  Get a look at a very special visitor\, who last visited 50\,000 years ago\, the comet c/2022 E(ZTF).  Randy will have a telescope & a giant pair of  binoculars.   Bring your own binoculars\, if you have some\, and a lawn chair if you like.  Dress warm!  If too cold or cloudy\, backup date is Feb. 24.   No registration required.  All ages. \n 
URL:https://www.ballardnaturecenter.org/event/sky-orienteering-3/
END:VEVENT
END:VCALENDAR