
BEGIN:VCALENDAR
VERSION:2.0
PRODID:-//Ballard Nature Center - ECPv6.13.0//NONSGML v1.0//EN
CALSCALE:GREGORIAN
METHOD:PUBLISH
X-ORIGINAL-URL:https://www.ballardnaturecenter.org
X-WR-CALDESC:Events for Ballard Nature Center
REFRESH-INTERVAL;VALUE=DURATION:PT1H
X-Robots-Tag:noindex
X-PUBLISHED-TTL:PT1H
BEGIN:VTIMEZONE
TZID:America/Chicago
BEGIN:DAYLIGHT
TZOFFSETFROM:-0600
TZOFFSETTO:-0500
TZNAME:CDT
DTSTART:20230312T080000
END:DAYLIGHT
BEGIN:STANDARD
TZOFFSETFROM:-0500
TZOFFSETTO:-0600
TZNAME:CST
DTSTART:20231105T070000
END:STANDARD
END:VTIMEZONE
BEGIN:VEVENT
DTSTART;VALUE=DATE:20230128
DTEND;VALUE=DATE:20230129
DTSTAMP:20260420T180756
CREATED:20230106T155816Z
LAST-MODIFIED:20230106T155902Z
UID:3864-1674864000-1674950399@www.ballardnaturecenter.org
SUMMARY:2nd Annual Art Show Deadline
DESCRIPTION:All artists (ages & skill level) can submit.  Deadline is January 28th.  See flyer and entry form for more info. \n2nd Annual Art Show @ Ballard Natuer Center \n2nd Art Show Entry Form
URL:https://www.ballardnaturecenter.org/event/2nd-annual-art-show/
END:VEVENT
BEGIN:VEVENT
DTSTART;TZID=America/Chicago:20230128T140000
DTEND;TZID=America/Chicago:20230128T140000
DTSTAMP:20260420T180756
CREATED:20230118T174838Z
LAST-MODIFIED:20230118T174838Z
UID:3874-1674914400-1674914400@www.ballardnaturecenter.org
SUMMARY:Beat the Blues with Birds
DESCRIPTION:Got cabin fever?  Then get out of the house and join us for this fun family program.  We’ll have a book and activities about birds.  A trail walk activity will be part of the fun.  No fee.  Register by email\, phone\, or facebook message.
URL:https://www.ballardnaturecenter.org/event/beat-the-blues-with-birds/
END:VEVENT
END:VCALENDAR