
BEGIN:VCALENDAR
VERSION:2.0
PRODID:-//Ballard Nature Center - ECPv6.13.0//NONSGML v1.0//EN
CALSCALE:GREGORIAN
METHOD:PUBLISH
X-WR-CALNAME:Ballard Nature Center
X-ORIGINAL-URL:https://www.ballardnaturecenter.org
X-WR-CALDESC:Events for Ballard Nature Center
REFRESH-INTERVAL;VALUE=DURATION:PT1H
X-Robots-Tag:noindex
X-PUBLISHED-TTL:PT1H
BEGIN:VTIMEZONE
TZID:America/Chicago
BEGIN:DAYLIGHT
TZOFFSETFROM:-0600
TZOFFSETTO:-0500
TZNAME:CDT
DTSTART:20230312T080000
END:DAYLIGHT
BEGIN:STANDARD
TZOFFSETFROM:-0500
TZOFFSETTO:-0600
TZNAME:CST
DTSTART:20231105T070000
END:STANDARD
END:VTIMEZONE
BEGIN:VEVENT
DTSTART;TZID=America/Chicago:20230116T100000
DTEND;TZID=America/Chicago:20230116T130000
DTSTAMP:20260420T161500
CREATED:20230105T200510Z
LAST-MODIFIED:20230105T200510Z
UID:3862-1673863200-1673874000@www.ballardnaturecenter.org
SUMMARY:Winter Craft Day
DESCRIPTION:Kids in 2nd – 5th grades \nSchool is out for Martin Luther King Day\, so it is a great time to come out to Ballard Nature Center for winter fun.  We’ll make several winter themed crafts.  We’ll also do some activities and take a hike if the weather permits.  Kids bring a sack lunch.  $6 fee.  Registration required – facebook message us\, email or call.  Register by 3pm on Jan 13. \n 
URL:https://www.ballardnaturecenter.org/event/winter-craft-day/
END:VEVENT
END:VCALENDAR