
BEGIN:VCALENDAR
VERSION:2.0
PRODID:-//Ballard Nature Center - ECPv6.13.0//NONSGML v1.0//EN
CALSCALE:GREGORIAN
METHOD:PUBLISH
X-WR-CALNAME:Ballard Nature Center
X-ORIGINAL-URL:https://www.ballardnaturecenter.org
X-WR-CALDESC:Events for Ballard Nature Center
REFRESH-INTERVAL;VALUE=DURATION:PT1H
X-Robots-Tag:noindex
X-PUBLISHED-TTL:PT1H
BEGIN:VTIMEZONE
TZID:America/Chicago
BEGIN:DAYLIGHT
TZOFFSETFROM:-0600
TZOFFSETTO:-0500
TZNAME:CDT
DTSTART:20220313T080000
END:DAYLIGHT
BEGIN:STANDARD
TZOFFSETFROM:-0500
TZOFFSETTO:-0600
TZNAME:CST
DTSTART:20221106T070000
END:STANDARD
END:VTIMEZONE
BEGIN:VEVENT
DTSTART;TZID=America/Chicago:20221022T130000
DTEND;TZID=America/Chicago:20221022T130000
DTSTAMP:20260421T075551
CREATED:20220708T190519Z
LAST-MODIFIED:20220804T202010Z
UID:3786-1666443600-1666443600@www.ballardnaturecenter.org
SUMMARY:Owl-O-Ween
DESCRIPTION:Come learn about owls.  The World Bird Sanctuary will be here with live owls and will give a 45 minute educational presentation.  Enjoy a fun hike after their presentation.  Pre-register by email\, ballardnc@frontiernet.net.
URL:https://www.ballardnaturecenter.org/event/owl-o-ween-2/
END:VEVENT
END:VCALENDAR