
BEGIN:VCALENDAR
VERSION:2.0
PRODID:-//Ballard Nature Center - ECPv6.13.0//NONSGML v1.0//EN
CALSCALE:GREGORIAN
METHOD:PUBLISH
X-ORIGINAL-URL:https://www.ballardnaturecenter.org
X-WR-CALDESC:Events for Ballard Nature Center
REFRESH-INTERVAL;VALUE=DURATION:PT1H
X-Robots-Tag:noindex
X-PUBLISHED-TTL:PT1H
BEGIN:VTIMEZONE
TZID:America/Chicago
BEGIN:DAYLIGHT
TZOFFSETFROM:-0600
TZOFFSETTO:-0500
TZNAME:CDT
DTSTART:20220313T080000
END:DAYLIGHT
BEGIN:STANDARD
TZOFFSETFROM:-0500
TZOFFSETTO:-0600
TZNAME:CST
DTSTART:20221106T070000
END:STANDARD
END:VTIMEZONE
BEGIN:VEVENT
DTSTART;VALUE=DATE:20221001
DTEND;VALUE=DATE:20221002
DTSTAMP:20260421T075542
CREATED:20220916T155635Z
LAST-MODIFIED:20220916T155635Z
UID:3825-1664582400-1664668799@www.ballardnaturecenter.org
SUMMARY:Jack-o-lantern Trail
DESCRIPTION:Self-guided trail that will be available until the end of October.  Along the woodland trail (follow the signs) there will be pictures of jack-o’-lanterns attached to trees.  At each picture\, you will punch your card that you pick up at the trailhead.  Turn your card in for a chance to win a prize. \n 
URL:https://www.ballardnaturecenter.org/event/jack-o-lantern-trail-3/
END:VEVENT
END:VCALENDAR